{"text_format":"1","workbook":"xlsx","n_sheets":3,"sheets":["TOTALI","SEZIONE (1)","SEZIONE (2)"],"not_rendered":{"charts":0,"images":0,"macros":1,"external_links":0,"defined_names":4,"comments":0,"pivot_tables":0},"unopened":[],"bounds":{"document_bytes":16777216,"sheet_cells":100000,"rows_first":2000,"rows_last":500,"rows_between":2000,"halvings":0,"cell_chars":16384,"cell_head_chars":4096},"cells_cut":0,"cells_raw":0,"read":"whole","date_system":"1900"}

{"sheet":"TOTALI","index":0,"n_rows":36,"n_cols":6,"rows_kept":36,"cut":false,"hidden":false,"merged":[[18,1,19,1],[19,2,19,3],[7,4,9,6],[12,5,13,5],[12,6,13,6],[16,1,17,1],[16,2,17,4],[22,0,23,0],[22,1,23,1],[23,2,23,3],[26,0,27,0],[26,1,27,1],[27,2,27,3],[30,0,31,0],[30,1,31,1],[31,2,31,3],[34,0,35,0],[34,1,35,1],[35,2,35,3]]}
[null,"ELEZIONI REGIONALI","TOTALI"]
[null,{"$f":"'SEZIONE (1)'!B2","v":"REGIONE PIEMONTE"}]
[]
[null,null,"MASCHI","FEMMINE","TOTALI"]
[null,"ELETTORI",{"$f":"SUM('SEZIONE (1):SEZIONE (2)'!C5:C5)","v":875},{"$f":"SUM('SEZIONE (1):SEZIONE (2)'!D5:D5)","v":874},{"$f":"SUM(C5:D5)","v":1749}]
[null,"VOTANTI",{"$f":"SUM('SEZIONE (1):SEZIONE (2)'!C6:C6)","v":583},{"$f":"SUM('SEZIONE (1):SEZIONE (2)'!D6:D6)","v":581},1164,{"$f":"IFERROR(E6/E5,\"-\")","v":0.66552315608919388}]
[]
[null,"BIANCHE",39,{"$f":"C8/E6","v":3.3505154639175257E-2}]
[null,"NULLE",32,{"$f":"C9/E6","v":2.7491408934707903E-2}]
[null,"CONTESTATE",0,{"$f":"C10/E6","v":0}]
[]
[null,"VOTI VALIDI",{"$f":"E6-(C8+C9+C10)","v":1093},{"$f":"IFERROR(C12/E6,\"-\")","v":0.93900343642611683}]
[]
[]
[]
[]
[null,"CANDIDATO","PRESIDENTE DELLA GIUNTA REGIONALE"]
[]
[1,{"$f":"'SEZIONE (1)'!B19:B20","v":"ALBERTO COSTANZO"},"VOTI AL CANDIDATO",10]
[null,null,"TOTALE",null,{"$f":"D19/C12","v":9.1491308325709064E-3}]
[]
[]
[2,{"$f":"'SEZIONE (1)'!B23:B24","v":"FRANCESCA FREDIANI"},"VOTI AL CANDIDATO",12]
[null,null,"TOTALE",null,{"$f":"IFERROR(D23/$C$12,\"-\")","v":1.0978956999085087E-2}]
[]
[]
[3,{"$f":"'SEZIONE (1)'!B27:B28","v":"SARAH DISABATO"},"VOTI AL CANDIDATO",49]
[null,null,"TOTALE",null,{"$f":"IFERROR(D27/$C$12,\"-\")","v":4.483074107959744E-2}]
[]
[]
[4,{"$f":"'SEZIONE (1)'!B31:B32","v":"ALBERTO CIRIO"},"VOTI AL CANDIDATO",787]
[null,null,"TOTALE",null,{"$f":"IFERROR(D31/$C$12,\"-\")","v":0.7200365965233303}]
[]
[]
[5,{"$f":"'SEZIONE (1)'!B35:B36","v":"GIOVANNA PENTENERO"},"VOTI AL CANDIDATO",235]
[null,null,"TOTALE",null,{"$f":"IFERROR(D35/$C$12,\"-\")","v":0.21500457456541627}]

{"sheet":"SEZIONE (1)","index":1,"n_rows":36,"n_cols":6,"rows_kept":36,"cut":false,"hidden":false,"merged":[[18,0,19,0],[18,1,19,1],[19,2,19,3],[7,4,9,6],[12,5,13,5],[12,6,13,6],[16,1,17,1],[16,2,17,4],[22,0,23,0],[22,1,23,1],[23,2,23,3],[26,0,27,0],[26,1,27,1],[27,2,27,3],[30,0,31,0],[30,1,31,1],[31,2,31,3],[34,0,35,0],[34,1,35,1],[35,2,35,3]]}
[null,"ELEZIONI REGIONALI","SEZIONE (1)"]
[null,"REGIONE PIEMONTE"]
[]
[null,null,"MASCHI","FEMMINE","TOTALI"]
[null,"ELETTORI",475,487,{"$f":"SUM(C5:D5)","v":962}]
[null,"VOTANTI",306,296,602,{"$f":"IFERROR(E6/E5,\"-\")","v":0.62577962577962576}]
[]
[null,"BIANCHE",24,{"$f":"C8/E6","v":3.9867109634551492E-2},{"$f":"IF(G13=0,\"\",IF(C12=G13,\"\",\"ATTEZIONE: I VOTI VALIDI E LA SOMMA DI VOTI ASSEGNATI AI CANDIDATI NON COINCIDONO\"))","v":""}]
[null,"NULLE",19,{"$f":"C9/E6","v":3.1561461794019932E-2}]
[null,"CONTESTATE",0,{"$f":"C10/E6","v":0}]
[]
[null,"VOTI VALIDI",{"$f":"E6-(C8+C9+C10)","v":559},{"$f":"IFERROR(C12/E6,\"-\")","v":0.9285714285714286}]
[]
[]
[]
[]
[null,"CANDIDATO","PRESIDENTE DELLA GIUNTA REGIONALE"]
[]
[1,"ALBERTO COSTANZO","VOTI AL CANDIDATO",5]
[null,null,"TOTALE",null,{"$f":"IFERROR(D19/$C$12,\"-\")","v":8.9445438282647581E-3}]
[]
[]
[2,"FRANCESCA FREDIANI","VOTI AL CANDIDATO",5]
[null,null,"TOTALE",null,{"$f":"IFERROR(D23/$C$12,\"-\")","v":8.9445438282647581E-3}]
[]
[]
[3,"SARAH DISABATO","VOTI AL CANDIDATO",19]
[null,null,"TOTALE",null,{"$f":"IFERROR(D27/$C$12,\"-\")","v":3.3989266547406083E-2}]
[]
[]
[4,"ALBERTO CIRIO","VOTI AL CANDIDATO",402]
[null,null,"TOTALE",null,{"$f":"IFERROR(D31/$C$12,\"-\")","v":0.71914132379248663}]
[]
[]
[5,"GIOVANNA PENTENERO","VOTI AL CANDIDATO",128]
[null,null,"TOTALE",null,{"$f":"IFERROR(D35/$C$12,\"-\")","v":0.22898032200357782}]

{"sheet":"SEZIONE (2)","index":2,"n_rows":36,"n_cols":6,"rows_kept":36,"cut":false,"hidden":false,"merged":[[18,0,19,0],[18,1,19,1],[19,2,19,3],[7,4,9,6],[12,5,13,5],[12,6,13,6],[16,1,17,1],[16,2,17,4],[22,0,23,0],[22,1,23,1],[23,2,23,3],[26,0,27,0],[26,1,27,1],[27,2,27,3],[30,0,31,0],[30,1,31,1],[31,2,31,3],[34,0,35,0],[34,1,35,1],[35,2,35,3]]}
[null,"ELEZIONI REGIONALI","SEZIONE (2)"]
[null,{"$f":"'SEZIONE (1)'!B2","v":"REGIONE PIEMONTE"}]
[]
[null,null,"MASCHI","FEMMINE","TOTALI"]
[null,"ELETTORI",400,387,{"$f":"SUM(C5:D5)","v":787}]
[null,"VOTANTI",277,285,562,{"$f":"IFERROR(E6/E5,\"-\")","v":0.7141041931385006}]
[]
[null,"BIANCHE",15,{"$f":"C8/E6","v":2.6690391459074734E-2},{"$f":"IF(G13=0,\"\",IF(C12=G13,\"\",\"ATTEZIONE: I VOTI VALIDI E LA SOMMA DI VOTI ASSEGNATI AI CANDIDATI NON COINCIDONO\"))","v":""}]
[null,"NULLE",13,{"$f":"C9/E6","v":2.3131672597864767E-2}]
[null,"CONTESTATE",0,{"$f":"C10/E6","v":0}]
[]
[null,"VOTI VALIDI",{"$f":"E6-(C8+C9+C10)","v":534},{"$f":"IFERROR(C12/E6,\"-\")","v":0.95017793594306055}]
[]
[]
[]
[]
[null,"CANDIDATO","PRESIDENTE DELLA GIUNTA REGIONALE"]
[]
[1,{"$f":"'SEZIONE (1)'!B19:B20","v":"ALBERTO COSTANZO"},"VOTI AL CANDIDATO",5]
[null,null,"TOTALE",null,{"$f":"IFERROR(D19/$C$12,\"-\")","v":9.3632958801498131E-3}]
[]
[]
[2,{"$f":"'SEZIONE (1)'!B23:B24","v":"FRANCESCA FREDIANI"},"VOTI AL CANDIDATO",7]
[null,null,"TOTALE",null,{"$f":"IFERROR(D23/$C$12,\"-\")","v":1.3108614232209739E-2}]
[]
[]
[3,{"$f":"'SEZIONE (1)'!B27:B28","v":"SARAH DISABATO"},"VOTI AL CANDIDATO",30]
[null,null,"TOTALE",null,{"$f":"IFERROR(D27/$C$12,\"-\")","v":5.6179775280898875E-2}]
[]
[]
[4,{"$f":"'SEZIONE (1)'!B31:B32","v":"ALBERTO CIRIO"},"VOTI AL CANDIDATO",385]
[null,null,"TOTALE",null,{"$f":"IFERROR(D31/$C$12,\"-\")","v":0.72097378277153557}]
[]
[]
[5,{"$f":"'SEZIONE (1)'!B35:B36","v":"GIOVANNA PENTENERO"},"VOTI AL CANDIDATO",107]
[null,null,"TOTALE",null,{"$f":"IFERROR(D35/$C$12,\"-\")","v":0.20037453183520598}]